Package: enrichViewNet Version: 1.9.0 Command: /Library/Frameworks/R.framework/Resources/bin/R CMD build --keep-empty-dirs --no-resave-data enrichViewNet StartedAt: 2025-11-27 16:54:00 -0500 (Thu, 27 Nov 2025) EndedAt: 2025-11-27 16:55:18 -0500 (Thu, 27 Nov 2025) EllapsedTime: 77.7 seconds RetCode: 0 Status: OK PackageFile: enrichViewNet_1.9.0.tar.gz PackageFileSize: 5.3 MiB