Package: enrichViewNet Version: 1.9.0 Command: /Library/Frameworks/R.framework/Resources/bin/R CMD INSTALL enrichViewNet StartedAt: 2025-11-20 15:24:02 -0500 (Thu, 20 Nov 2025) EndedAt: 2025-11-20 15:24:13 -0500 (Thu, 20 Nov 2025) EllapsedTime: 10.5 seconds RetCode: 0 Status: OK