Package: enrichViewNet Version: 1.9.0 Command: rm -rf enrichViewNet.buildbin-libdir && mkdir enrichViewNet.buildbin-libdir && /Users/biocbuild/BBS/utils/build-universal.sh enrichViewNet_1.9.0.tar.gz /Library/Frameworks/R.framework/Resources/bin/R enrichViewNet.buildbin-libdir StartedAt: 2025-11-20 23:32:23 -0500 (Thu, 20 Nov 2025) EndedAt: 2025-11-20 23:32:35 -0500 (Thu, 20 Nov 2025) EllapsedTime: 12.3 seconds RetCode: 0 Status: OK PackageFile: enrichViewNet_1.9.0.tgz PackageFileSize: 4.468 MiB