Package: easyreporting Version: 1.23.0 Command: /Library/Frameworks/R.framework/Resources/bin/R CMD build --keep-empty-dirs --no-resave-data easyreporting StartedAt: 2025-11-25 17:05:58 -0500 (Tue, 25 Nov 2025) EndedAt: 2025-11-25 17:06:12 -0500 (Tue, 25 Nov 2025) EllapsedTime: 13.7 seconds RetCode: 0 Status: OK PackageFile: easyreporting_1.23.0.tar.gz PackageFileSize: 2.94 MiB