Package: easyreporting Version: 1.23.0 Command: rm -rf easyreporting.buildbin-libdir && mkdir easyreporting.buildbin-libdir && /Users/biocbuild/BBS/utils/build-universal.sh easyreporting_1.23.0.tar.gz /Library/Frameworks/R.framework/Resources/bin/R easyreporting.buildbin-libdir StartedAt: 2025-11-26 01:44:19 -0500 (Wed, 26 Nov 2025) EndedAt: 2025-11-26 01:44:27 -0500 (Wed, 26 Nov 2025) EllapsedTime: 7.9 seconds RetCode: 0 Status: OK PackageFile: easyreporting_1.23.0.tgz PackageFileSize: 3.109 MiB