Package: easyreporting Version: 1.23.0 Command: /Library/Frameworks/R.framework/Resources/bin/R CMD INSTALL easyreporting StartedAt: 2025-11-16 15:04:53 -0500 (Sun, 16 Nov 2025) EndedAt: 2025-11-16 15:05:02 -0500 (Sun, 16 Nov 2025) EllapsedTime: 8.6 seconds RetCode: 0 Status: OK