Package: easyRNASeq Version: 2.45.1 Command: /home/biocbuild/bbs-3.22-bioc/R/bin/R CMD INSTALL easyRNASeq StartedAt: 2025-10-23 15:55:04 -0400 (Thu, 23 Oct 2025) EndedAt: 2025-10-23 15:55:48 -0400 (Thu, 23 Oct 2025) EllapsedTime: 44.5 seconds RetCode: 0 Status: OK