Package: easyRNASeq Version: 2.45.1 Command: /home/biocbuild/bbs-3.22-bioc/R/bin/R CMD build --keep-empty-dirs --no-resave-data --md5 easyRNASeq StartedAt: 2025-10-22 17:27:00 -0400 (Wed, 22 Oct 2025) EndedAt: 2025-10-22 17:30:48 -0400 (Wed, 22 Oct 2025) EllapsedTime: 228.2 seconds RetCode: 0 Status: OK PackageFile: easyRNASeq_2.45.1.tar.gz PackageFileSize: 69.56 MiB