Package: doubletrouble Version: 1.9.1 Command: /home/biocbuild/bbs-3.22-bioc/R/bin/R CMD INSTALL doubletrouble StartedAt: 2025-10-17 15:51:03 -0400 (Fri, 17 Oct 2025) EndedAt: 2025-10-17 15:51:44 -0400 (Fri, 17 Oct 2025) EllapsedTime: 41.2 seconds RetCode: 0 Status: OK