Package: dittoSeq Version: 1.21.1 Command: /home/biocbuild/bbs-3.22-bioc/R/bin/R CMD INSTALL dittoSeq StartedAt: 2025-10-05 15:22:53 -0400 (Sun, 05 Oct 2025) EndedAt: 2025-10-05 15:23:20 -0400 (Sun, 05 Oct 2025) EllapsedTime: 27.6 seconds RetCode: 0 Status: OK