Package: dittoSeq Version: 1.21.1 Command: /home/biocbuild/bbs-3.22-bioc/R/bin/R CMD build --keep-empty-dirs --no-resave-data --md5 dittoSeq StartedAt: 2025-10-05 17:22:04 -0400 (Sun, 05 Oct 2025) EndedAt: 2025-10-05 17:23:21 -0400 (Sun, 05 Oct 2025) EllapsedTime: 77.1 seconds RetCode: 1 Status: ERROR PackageFile: None PackageFileSize: NA