Package: diffuStats Version: 1.29.0 Command: /home/biocbuild/R/R/bin/R CMD INSTALL diffuStats StartedAt: 2025-09-29 20:37:16 -0000 (Mon, 29 Sep 2025) EndedAt: 2025-09-29 20:38:44 -0000 (Mon, 29 Sep 2025) EllapsedTime: 87.2 seconds RetCode: 0 Status: OK