Package: diffuStats Version: 1.29.0 Command: /home/biocbuild/R/R/bin/R CMD build --keep-empty-dirs --no-resave-data diffuStats StartedAt: 2025-09-29 23:33:33 -0000 (Mon, 29 Sep 2025) EndedAt: 2025-09-29 23:34:20 -0000 (Mon, 29 Sep 2025) EllapsedTime: 47.0 seconds RetCode: 1 Status: ERROR PackageFile: None PackageFileSize: NA