Package: diffuStats Version: 1.31.0 Command: /home/biocbuild/bbs-3.23-bioc/R/bin/R CMD build --keep-empty-dirs --no-resave-data diffuStats StartedAt: 2025-11-13 17:17:31 -0500 (Thu, 13 Nov 2025) EndedAt: 2025-11-13 17:18:17 -0500 (Thu, 13 Nov 2025) EllapsedTime: 46.0 seconds RetCode: 0 Status: OK PackageFile: diffuStats_1.31.0.tar.gz PackageFileSize: 1.315 MiB