Package: diffcyt Version: 1.31.0 Command: /home/biocbuild/bbs-3.23-bioc/R/bin/R CMD INSTALL diffcyt StartedAt: 2025-11-05 15:29:32 -0500 (Wed, 05 Nov 2025) EndedAt: 2025-11-05 15:30:04 -0500 (Wed, 05 Nov 2025) EllapsedTime: 32.1 seconds RetCode: 0 Status: OK