Package: diffcyt Version: 1.31.0 Command: /home/biocbuild/bbs-3.23-bioc/R/bin/R CMD check --install=check:diffcyt.install-out.txt --library=/home/biocbuild/bbs-3.23-bioc/R/site-library --timings diffcyt_1.31.0.tar.gz StartedAt: 2025-11-20 22:59:58 -0500 (Thu, 20 Nov 2025) EndedAt: 2025-11-20 23:06:23 -0500 (Thu, 20 Nov 2025) EllapsedTime: 385.4 seconds RetCode: 0 Status: OK CheckDir: diffcyt.Rcheck Warnings: 0