Package: diffcoexp Version: 1.31.0 Command: /home/biocbuild/bbs-3.23-bioc/R/bin/R CMD INSTALL diffcoexp StartedAt: 2025-11-07 15:44:06 -0500 (Fri, 07 Nov 2025) EndedAt: 2025-11-07 15:44:38 -0500 (Fri, 07 Nov 2025) EllapsedTime: 32.7 seconds RetCode: 0 Status: OK