Package: diffUTR Version: 1.19.0 Command: /home/biocbuild/bbs-3.23-bioc/R/bin/R CMD INSTALL diffUTR StartedAt: 2025-11-19 15:44:42 -0500 (Wed, 19 Nov 2025) EndedAt: 2025-11-19 15:45:29 -0500 (Wed, 19 Nov 2025) EllapsedTime: 47.3 seconds RetCode: 0 Status: OK