Package: diffUTR Version: 1.17.0 Command: /Library/Frameworks/R.framework/Resources/bin/R CMD INSTALL diffUTR StartedAt: 2025-10-02 15:36:20 -0400 (Thu, 02 Oct 2025) EndedAt: 2025-10-02 15:37:23 -0400 (Thu, 02 Oct 2025) EllapsedTime: 63.0 seconds RetCode: 0 Status: OK