Package: diffUTR Version: 1.17.0 Command: /Library/Frameworks/R.framework/Resources/bin/R CMD build --keep-empty-dirs --no-resave-data diffUTR StartedAt: 2025-10-02 16:47:14 -0400 (Thu, 02 Oct 2025) EndedAt: 2025-10-02 16:48:54 -0400 (Thu, 02 Oct 2025) EllapsedTime: 99.7 seconds RetCode: 0 Status: OK PackageFile: diffUTR_1.17.0.tar.gz PackageFileSize: 1.382 MiB