Package: diffUTR Version: 1.17.0 Command: rm -rf diffUTR.buildbin-libdir && mkdir diffUTR.buildbin-libdir && /Users/biocbuild/BBS/utils/build-universal.sh diffUTR_1.17.0.tar.gz /Library/Frameworks/R.framework/Resources/bin/R diffUTR.buildbin-libdir StartedAt: 2025-10-03 01:54:24 -0400 (Fri, 03 Oct 2025) EndedAt: 2025-10-03 01:55:31 -0400 (Fri, 03 Oct 2025) EllapsedTime: 66.7 seconds RetCode: 0 Status: OK PackageFile: diffUTR_1.17.0.tgz PackageFileSize: 1.428 MiB