Package: diffHic Version: 1.43.0 Command: /home/biocbuild/bbs-3.23-bioc/R/bin/R CMD INSTALL diffHic StartedAt: 2025-11-14 15:33:51 -0500 (Fri, 14 Nov 2025) EndedAt: 2025-11-14 15:35:26 -0500 (Fri, 14 Nov 2025) EllapsedTime: 94.4 seconds RetCode: 0 Status: OK