Package: diffGeneAnalysis Version: 1.91.0 Command: /home/biocbuild/R/R/bin/R CMD INSTALL diffGeneAnalysis StartedAt: 2025-10-02 20:20:18 -0000 (Thu, 02 Oct 2025) EndedAt: 2025-10-02 20:20:46 -0000 (Thu, 02 Oct 2025) EllapsedTime: 28.1 seconds RetCode: 0 Status: OK