Package: deltaCaptureC Version: 1.23.1 Command: /home/biocbuild/bbs-3.22-bioc/R/bin/R CMD INSTALL deltaCaptureC StartedAt: 2025-10-10 15:43:23 -0400 (Fri, 10 Oct 2025) EndedAt: 2025-10-10 15:43:55 -0400 (Fri, 10 Oct 2025) EllapsedTime: 31.3 seconds RetCode: 0 Status: OK