Package: deltaCaptureC Version: 1.23.1 Command: /home/biocbuild/bbs-3.22-bioc/R/bin/R CMD build --keep-empty-dirs --no-resave-data --md5 deltaCaptureC StartedAt: 2025-10-10 17:26:57 -0400 (Fri, 10 Oct 2025) EndedAt: 2025-10-10 17:29:00 -0400 (Fri, 10 Oct 2025) EllapsedTime: 123.1 seconds RetCode: 0 Status: OK PackageFile: deltaCaptureC_1.23.1.tar.gz PackageFileSize: 333.7 KiB