Package: debrowser Version: 1.37.0 Command: /home/biocbuild/bbs-3.22-bioc/R/bin/R CMD INSTALL debrowser StartedAt: 2025-10-05 15:47:39 -0400 (Sun, 05 Oct 2025) EndedAt: 2025-10-05 15:48:25 -0400 (Sun, 05 Oct 2025) EllapsedTime: 45.9 seconds RetCode: 0 Status: OK