Package: ddPCRclust Version: 1.31.0 Command: /home/biocbuild/bbs-3.23-bioc/R/bin/R CMD INSTALL ddPCRclust StartedAt: 2025-11-20 15:13:41 -0500 (Thu, 20 Nov 2025) EndedAt: 2025-11-20 15:13:55 -0500 (Thu, 20 Nov 2025) EllapsedTime: 14.2 seconds RetCode: 0 Status: OK