Package: ddPCRclust Version: 1.31.0 Command: /Library/Frameworks/R.framework/Resources/bin/R CMD INSTALL ddPCRclust StartedAt: 2025-11-18 15:20:28 -0500 (Tue, 18 Nov 2025) EndedAt: 2025-11-18 15:20:41 -0500 (Tue, 18 Nov 2025) EllapsedTime: 12.2 seconds RetCode: 0 Status: OK