Package: ddPCRclust Version: 1.31.0 Command: /Library/Frameworks/R.framework/Resources/bin/R CMD build --keep-empty-dirs --no-resave-data ddPCRclust StartedAt: 2025-11-18 16:40:20 -0500 (Tue, 18 Nov 2025) EndedAt: 2025-11-18 16:41:08 -0500 (Tue, 18 Nov 2025) EllapsedTime: 48.0 seconds RetCode: 0 Status: OK PackageFile: ddPCRclust_1.31.0.tar.gz PackageFileSize: 1.192 MiB