Package: dStruct Version: 1.17.0 Command: /Library/Frameworks/R.framework/Resources/bin/R CMD INSTALL dStruct StartedAt: 2025-11-21 15:07:44 -0500 (Fri, 21 Nov 2025) EndedAt: 2025-11-21 15:07:45 -0500 (Fri, 21 Nov 2025) EllapsedTime: 1.0 seconds RetCode: 0 Status: OK