Package: dStruct Version: 1.17.0 Command: rm -rf dStruct.buildbin-libdir && mkdir dStruct.buildbin-libdir && /Users/biocbuild/BBS/utils/build-universal.sh dStruct_1.17.0.tar.gz /Library/Frameworks/R.framework/Resources/bin/R dStruct.buildbin-libdir StartedAt: 2025-11-21 23:30:45 -0500 (Fri, 21 Nov 2025) EndedAt: 2025-11-21 23:30:48 -0500 (Fri, 21 Nov 2025) EllapsedTime: 3.1 seconds RetCode: 0 Status: OK PackageFile: dStruct_1.17.0.tgz PackageFileSize: 597.5 KiB