Package: cytomapper Version: 1.21.0 Command: /home/biocbuild/bbs-3.22-bioc/R/bin/R CMD INSTALL cytomapper StartedAt: 2025-10-01 15:25:53 -0400 (Wed, 01 Oct 2025) EndedAt: 2025-10-01 15:27:00 -0400 (Wed, 01 Oct 2025) EllapsedTime: 67.4 seconds RetCode: 0 Status: OK