Package: cytomapper Version: 1.21.0 Command: /home/biocbuild/bbs-3.22-bioc/R/bin/R CMD build --keep-empty-dirs --no-resave-data --md5 cytomapper StartedAt: 2025-10-01 17:27:54 -0400 (Wed, 01 Oct 2025) EndedAt: 2025-10-01 17:29:31 -0400 (Wed, 01 Oct 2025) EllapsedTime: 97.1 seconds RetCode: 0 Status: OK PackageFile: cytomapper_1.21.0.tar.gz PackageFileSize: 20.98 MiB