Package: cytolib Version: 2.21.0 Command: /home/biocbuild/bbs-3.22-bioc/R/bin/R CMD INSTALL cytolib StartedAt: 2025-09-29 15:06:59 -0400 (Mon, 29 Sep 2025) EndedAt: 2025-09-29 15:09:36 -0400 (Mon, 29 Sep 2025) EllapsedTime: 156.6 seconds RetCode: 0 Status: OK