Package: customProDB Version: 1.51.0 Command: /Library/Frameworks/R.framework/Resources/bin/R CMD INSTALL customProDB StartedAt: 2025-11-23 15:21:06 -0500 (Sun, 23 Nov 2025) EndedAt: 2025-11-23 15:21:24 -0500 (Sun, 23 Nov 2025) EllapsedTime: 18.0 seconds RetCode: 0 Status: OK