Package: customProDB Version: 1.51.0 Command: /Library/Frameworks/R.framework/Resources/bin/R CMD build --keep-empty-dirs --no-resave-data customProDB StartedAt: 2025-11-23 16:04:28 -0500 (Sun, 23 Nov 2025) EndedAt: 2025-11-23 16:04:58 -0500 (Sun, 23 Nov 2025) EllapsedTime: 29.3 seconds RetCode: 0 Status: OK PackageFile: customProDB_1.51.0.tar.gz PackageFileSize: 540.3 KiB