Package: customProDB Version: 1.51.0 Command: rm -rf customProDB.buildbin-libdir && mkdir customProDB.buildbin-libdir && /Users/biocbuild/BBS/utils/build-universal.sh customProDB_1.51.0.tar.gz /Library/Frameworks/R.framework/Resources/bin/R customProDB.buildbin-libdir StartedAt: 2025-11-23 23:32:02 -0500 (Sun, 23 Nov 2025) EndedAt: 2025-11-23 23:32:24 -0500 (Sun, 23 Nov 2025) EllapsedTime: 21.5 seconds RetCode: 0 Status: OK PackageFile: customProDB_1.51.0.tgz PackageFileSize: 719.7 KiB