Package: customCMPdb Version: 1.19.0 Command: /home/biocbuild/bbs-3.22-bioc/R/bin/R CMD INSTALL customCMPdb StartedAt: 2025-10-02 15:26:44 -0400 (Thu, 02 Oct 2025) EndedAt: 2025-10-02 15:27:02 -0400 (Thu, 02 Oct 2025) EllapsedTime: 17.6 seconds RetCode: 0 Status: OK