Package: customCMPdb Version: 1.19.0 Command: /home/biocbuild/bbs-3.22-bioc/R/bin/R CMD build --keep-empty-dirs --no-resave-data --md5 customCMPdb StartedAt: 2025-10-02 17:06:28 -0400 (Thu, 02 Oct 2025) EndedAt: 2025-10-02 17:08:12 -0400 (Thu, 02 Oct 2025) EllapsedTime: 104.1 seconds RetCode: 0 Status: OK PackageFile: customCMPdb_1.19.0.tar.gz PackageFileSize: 684.9 KiB