Package: ctc Version: 1.83.0 Command: /home/biocbuild/bbs-3.22-bioc/R/bin/R CMD build --keep-empty-dirs --no-resave-data --md5 ctc StartedAt: 2025-10-28 17:05:41 -0400 (Tue, 28 Oct 2025) EndedAt: 2025-10-28 17:05:46 -0400 (Tue, 28 Oct 2025) EllapsedTime: 5.0 seconds RetCode: 0 Status: OK PackageFile: ctc_1.83.0.tar.gz PackageFileSize: 271.4 KiB