Package: csaw Version: 1.45.0 Command: /Library/Frameworks/R.framework/Resources/bin/R CMD INSTALL csaw StartedAt: 2025-11-23 15:11:27 -0500 (Sun, 23 Nov 2025) EndedAt: 2025-11-23 15:11:53 -0500 (Sun, 23 Nov 2025) EllapsedTime: 25.2 seconds RetCode: 0 Status: OK