Package: crisprBase Version: 1.13.0 Command: /home/biocbuild/bbs-3.22-bioc/R/bin/R CMD INSTALL crisprBase StartedAt: 2025-10-21 15:17:56 -0400 (Tue, 21 Oct 2025) EndedAt: 2025-10-21 15:18:12 -0400 (Tue, 21 Oct 2025) EllapsedTime: 15.3 seconds RetCode: 0 Status: OK