Package: crisprBase Version: 1.13.0 Command: /home/biocbuild/bbs-3.22-bioc/R/bin/R CMD build --keep-empty-dirs --no-resave-data --md5 crisprBase StartedAt: 2025-10-20 17:00:01 -0400 (Mon, 20 Oct 2025) EndedAt: 2025-10-20 17:00:27 -0400 (Mon, 20 Oct 2025) EllapsedTime: 26.0 seconds RetCode: 0 Status: OK PackageFile: crisprBase_1.13.0.tar.gz PackageFileSize: 1.741 MiB