Package: countsimQC Version: 1.27.1 Command: /home/biocbuild/bbs-3.22-bioc/R/bin/R CMD INSTALL countsimQC StartedAt: 2025-10-21 15:31:37 -0400 (Tue, 21 Oct 2025) EndedAt: 2025-10-21 15:32:08 -0400 (Tue, 21 Oct 2025) EllapsedTime: 31.1 seconds RetCode: 0 Status: OK