Package: countsimQC Version: 1.27.1 Command: /home/biocbuild/bbs-3.22-bioc/R/bin/R CMD build --keep-empty-dirs --no-resave-data --md5 countsimQC StartedAt: 2025-10-21 17:03:52 -0400 (Tue, 21 Oct 2025) EndedAt: 2025-10-21 17:06:12 -0400 (Tue, 21 Oct 2025) EllapsedTime: 140.1 seconds RetCode: 0 Status: OK PackageFile: countsimQC_1.27.1.tar.gz PackageFileSize: 442.1 KiB