Package: condiments Version: 1.17.0 Command: /home/biocbuild/bbs-3.22-bioc/R/bin/R CMD INSTALL condiments StartedAt: 2025-10-20 15:57:29 -0400 (Mon, 20 Oct 2025) EndedAt: 2025-10-20 15:58:04 -0400 (Mon, 20 Oct 2025) EllapsedTime: 35.2 seconds RetCode: 0 Status: OK