Package: compSPOT Version: 1.9.0 Command: /home/biocbuild/bbs-3.23-bioc/R/bin/R CMD build --keep-empty-dirs --no-resave-data compSPOT StartedAt: 2025-11-19 17:00:49 -0500 (Wed, 19 Nov 2025) EndedAt: 2025-11-19 17:01:12 -0500 (Wed, 19 Nov 2025) EllapsedTime: 23.0 seconds RetCode: 0 Status: OK PackageFile: compSPOT_1.9.0.tar.gz PackageFileSize: 436.6 KiB