Package: compEpiTools Version: 1.45.0 Command: /home/biocbuild/bbs-3.23-bioc/R/bin/R CMD INSTALL compEpiTools StartedAt: 2025-11-21 15:49:37 -0500 (Fri, 21 Nov 2025) EndedAt: 2025-11-21 15:50:35 -0500 (Fri, 21 Nov 2025) EllapsedTime: 58.3 seconds RetCode: 0 Status: OK