Package: compEpiTools Version: 1.45.0 Command: /home/biocbuild/bbs-3.23-bioc/R/bin/R CMD build --keep-empty-dirs --no-resave-data compEpiTools StartedAt: 2025-11-21 16:57:03 -0500 (Fri, 21 Nov 2025) EndedAt: 2025-11-21 16:58:31 -0500 (Fri, 21 Nov 2025) EllapsedTime: 88.1 seconds RetCode: 0 Status: OK PackageFile: compEpiTools_1.45.0.tar.gz PackageFileSize: 2.166 MiB