Package: compEpiTools Version: 1.45.0 Command: /Library/Frameworks/R.framework/Resources/bin/R CMD INSTALL compEpiTools StartedAt: 2025-11-18 15:50:28 -0500 (Tue, 18 Nov 2025) EndedAt: 2025-11-18 15:51:48 -0500 (Tue, 18 Nov 2025) EllapsedTime: 80.7 seconds RetCode: 0 Status: OK